BEGIN:VCALENDAR
VERSION:2.0
PRODID:-//The BoZone - ECPv5.12.0//NONSGML v1.0//EN
CALSCALE:GREGORIAN
METHOD:PUBLISH
X-WR-CALNAME:The BoZone
X-ORIGINAL-URL:https://bozone.com
X-WR-CALDESC:Events for The BoZone
BEGIN:VTIMEZONE
TZID:America/Denver
BEGIN:DAYLIGHT
TZOFFSETFROM:-0700
TZOFFSETTO:-0600
TZNAME:MDT
DTSTART:20260308T090000
END:DAYLIGHT
BEGIN:STANDARD
TZOFFSETFROM:-0600
TZOFFSETTO:-0700
TZNAME:MST
DTSTART:20261101T080000
END:STANDARD
END:VTIMEZONE
BEGIN:VEVENT
DTSTART;TZID=America/Denver:20260118T100000
DTEND;TZID=America/Denver:20260118T100000
DTSTAMP:20260423T065608
CREATED:20251229T005204Z
LAST-MODIFIED:20251229T005204Z
UID:304527-1768730400-1768730400@bozone.com
SUMMARY:Community Dual GS #4  (Pre-Reg Rqrd)
DESCRIPTION:Jan 18\n\nCommunity Dual GS #4\n\n\nDual Giant Slalom Race Series\nMore Details
URL:https://bozone.com/event/community-dual-gs-4-pre-reg-rqrd/
LOCATION:Bridger Bowl\, 15795 Bridger Canyon Road\, Bozeman\, MT\, 595715\, United States
CATEGORIES:Sporting Events
GEO:45.6793339;-111.0320593
X-APPLE-STRUCTURED-LOCATION;VALUE=URI;X-ADDRESS=Bridger Bowl 15795 Bridger Canyon Road Bozeman MT 595715 United States;X-APPLE-RADIUS=500;X-TITLE=15795 Bridger Canyon Road:geo:-111.0320593,45.6793339
END:VEVENT
END:VCALENDAR