BEGIN:VCALENDAR
VERSION:2.0
PRODID:-//The BoZone - ECPv5.12.0//NONSGML v1.0//EN
CALSCALE:GREGORIAN
METHOD:PUBLISH
X-WR-CALNAME:The BoZone
X-ORIGINAL-URL:https://bozone.com
X-WR-CALDESC:Events for The BoZone
BEGIN:VTIMEZONE
TZID:America/Denver
BEGIN:DAYLIGHT
TZOFFSETFROM:-0700
TZOFFSETTO:-0600
TZNAME:MDT
DTSTART:20250309T090000
END:DAYLIGHT
BEGIN:STANDARD
TZOFFSETFROM:-0600
TZOFFSETTO:-0700
TZNAME:MST
DTSTART:20251102T080000
END:STANDARD
END:VTIMEZONE
BEGIN:VEVENT
DTSTART;TZID=America/Denver:20251213T190000
DTEND;TZID=America/Denver:20251213T190000
DTSTAMP:20260422T164201
CREATED:20251128T222558Z
LAST-MODIFIED:20251128T222558Z
UID:303102-1765652400-1765652400@bozone.com
SUMMARY:Colter John
DESCRIPTION:Colter John (1)\nDec 13\, 2025\, 7:00 PM – 9:30 PM\nNorris Hot Springs\, 42 MT-84\, Norris\, MT 59745\, USA\nBorn and raised in Southwest Montana\, where the inspiration to play music began\, artist Colter John spent much of his musical career playing in bands throughout the Pacific Northwest and in Western Montana before returning home to Madison County.
URL:https://bozone.com/event/colter-john-9/
LOCATION:Norris Hot Springs\, Route 84\, Norris\, United States
CATEGORIES:Music
GEO:45.6433024;-111.4569678
X-APPLE-STRUCTURED-LOCATION;VALUE=URI;X-ADDRESS=Norris Hot Springs Route 84 Norris United States;X-APPLE-RADIUS=500;X-TITLE=Route 84:geo:-111.4569678,45.6433024
END:VEVENT
END:VCALENDAR