BEGIN:VCALENDAR
VERSION:2.0
PRODID:-//The BoZone - ECPv5.12.0//NONSGML v1.0//EN
CALSCALE:GREGORIAN
METHOD:PUBLISH
X-WR-CALNAME:The BoZone
X-ORIGINAL-URL:https://bozone.com
X-WR-CALDESC:Events for The BoZone
BEGIN:VTIMEZONE
TZID:America/Denver
BEGIN:DAYLIGHT
TZOFFSETFROM:-0700
TZOFFSETTO:-0600
TZNAME:MDT
DTSTART:20250309T090000
END:DAYLIGHT
BEGIN:STANDARD
TZOFFSETFROM:-0600
TZOFFSETTO:-0700
TZNAME:MST
DTSTART:20251102T080000
END:STANDARD
END:VTIMEZONE
BEGIN:VEVENT
DTSTART;TZID=America/Denver:20251117T151000
DTEND;TZID=America/Denver:20251117T151000
DTSTAMP:20260422T113849
CREATED:20251111T172303Z
LAST-MODIFIED:20251111T172303Z
UID:302001-1763392200-1763392200@bozone.com
SUMMARY:Climate Week - Painting Pumpkin Pals
DESCRIPTION:Join us for a cozy fall afternoon of painting pumpkins and celebrating creativity with a sustainability twist! All materials—including pumpkins\, paints\, and brushes—will be provided. Bring your friends and take home your eco-friendly masterpiece. Hosted by Grow Our World MSU!
URL:https://bozone.com/event/climate-week-painting-pumpkin-pals/
LOCATION:Wilson Hall – MSU\, 1091 S 8th\, Bozeman\, MT\, 59715\, United States
CATEGORIES:Arts & Theatre,Miscellanea
GEO:45.6691876;-111.0479761
X-APPLE-STRUCTURED-LOCATION;VALUE=URI;X-ADDRESS=Wilson Hall – MSU 1091 S 8th Bozeman MT 59715 United States;X-APPLE-RADIUS=500;X-TITLE=1091 S 8th:geo:-111.0479761,45.6691876
END:VEVENT
END:VCALENDAR