BEGIN:VCALENDAR
VERSION:2.0
PRODID:-//The BoZone - ECPv5.12.0//NONSGML v1.0//EN
CALSCALE:GREGORIAN
METHOD:PUBLISH
X-WR-CALNAME:The BoZone
X-ORIGINAL-URL:https://bozone.com
X-WR-CALDESC:Events for The BoZone
BEGIN:VTIMEZONE
TZID:America/Denver
BEGIN:DAYLIGHT
TZOFFSETFROM:-0700
TZOFFSETTO:-0600
TZNAME:MDT
DTSTART:20250309T090000
END:DAYLIGHT
BEGIN:STANDARD
TZOFFSETFROM:-0600
TZOFFSETTO:-0700
TZNAME:MST
DTSTART:20251102T080000
END:STANDARD
END:VTIMEZONE
BEGIN:VEVENT
DTSTART;TZID=America/Denver:20251115T101500
DTEND;TZID=America/Denver:20251115T101500
DTSTAMP:20260422T112944
CREATED:20251010T220608Z
LAST-MODIFIED:20251010T220608Z
UID:299882-1763201700-1763201700@bozone.com
SUMMARY:Classics Book Club
DESCRIPTION:Longevity being a good indicator of worth\, this club concentrates on literature that has withstood the test of time and still has relevance today. Joining a group of fellow readers to discuss these sometimes challenging works can increase one’s understanding wonderfully. We meet on the third Saturday of the month (except December) from 10:15 AM until noon in the Ponderosa Room. \nSeptember: John Milton – Paradise Lost \nOctober: Wuthering Heights – Emily Brontë \nNovember: A Street Car Named Desire – Tennessee Williams \nEveryone in is welcome to come and just show up. \nFor more information email bozemanCLBC@gmail.com
URL:https://bozone.com/event/classics-book-club-5/
LOCATION:Bozeman Public Library\, 626 East Main Street\, Bozeman\, MT\, 59715\, United States
CATEGORIES:Miscellanea
GEO:45.6785823;-111.0270991
X-APPLE-STRUCTURED-LOCATION;VALUE=URI;X-ADDRESS=Bozeman Public Library 626 East Main Street Bozeman MT 59715 United States;X-APPLE-RADIUS=500;X-TITLE=626 East Main Street:geo:-111.0270991,45.6785823
END:VEVENT
END:VCALENDAR