BEGIN:VCALENDAR
VERSION:2.0
PRODID:-//The BoZone - ECPv5.12.0//NONSGML v1.0//EN
CALSCALE:GREGORIAN
METHOD:PUBLISH
X-WR-CALNAME:The BoZone
X-ORIGINAL-URL:https://bozone.com
X-WR-CALDESC:Events for The BoZone
BEGIN:VTIMEZONE
TZID:America/Denver
BEGIN:DAYLIGHT
TZOFFSETFROM:-0700
TZOFFSETTO:-0600
TZNAME:MDT
DTSTART:20250309T090000
END:DAYLIGHT
BEGIN:STANDARD
TZOFFSETFROM:-0600
TZOFFSETTO:-0700
TZNAME:MST
DTSTART:20251102T080000
END:STANDARD
END:VTIMEZONE
BEGIN:VEVENT
DTSTART;TZID=America/Denver:20251207T160000
DTEND;TZID=America/Denver:20251207T160000
DTSTAMP:20260424T134406
CREATED:20251025T014819Z
LAST-MODIFIED:20251025T014819Z
UID:300239-1765123200-1765123200@bozone.com
SUMMARY:Christmas Ornament Painting
DESCRIPTION:Join me at Bar 3 Bar-B-Q for a Christmas ornament decorating class. Every artist gets 4 ornaments to decorate\, and you can paint both sides! I’ll provide several designs to choose from\, or you can freehand your own.\n-What: A Christmas ornament decorating party\n-When: Sunday\, December 7th from 4:00-6:00 PM\n-Where: 119 E Main St\, Belgrade\, MT 59714\n-Who: You and your pals\n-Why: Why not?\n-How: Buy a ticket online to reserve your seat \nPS: Please arrive 10 minutes early to grab your drinks and get settled!
URL:https://bozone.com/event/christmas-ornament-painting/
LOCATION:Bar 3 BBQ\, 119 East Main St\, Belgrade\, MT\, 59714\, United States
CATEGORIES:Arts & Theatre,Classes,Miscellanea
GEO:45.7765839;-111.1771994
X-APPLE-STRUCTURED-LOCATION;VALUE=URI;X-ADDRESS=Bar 3 BBQ 119 East Main St Belgrade MT 59714 United States;X-APPLE-RADIUS=500;X-TITLE=119 East Main St:geo:-111.1771994,45.7765839
END:VEVENT
END:VCALENDAR