BEGIN:VCALENDAR
VERSION:2.0
PRODID:-//The BoZone - ECPv5.12.0//NONSGML v1.0//EN
CALSCALE:GREGORIAN
METHOD:PUBLISH
X-WR-CALNAME:The BoZone
X-ORIGINAL-URL:https://bozone.com
X-WR-CALDESC:Events for The BoZone
BEGIN:VTIMEZONE
TZID:America/Denver
BEGIN:DAYLIGHT
TZOFFSETFROM:-0700
TZOFFSETTO:-0600
TZNAME:MDT
DTSTART:20260308T090000
END:DAYLIGHT
BEGIN:STANDARD
TZOFFSETFROM:-0600
TZOFFSETTO:-0700
TZNAME:MST
DTSTART:20261101T080000
END:STANDARD
END:VTIMEZONE
BEGIN:VEVENT
DTSTART;TZID=America/Denver:20260409T164400
DTEND;TZID=America/Denver:20260409T180000
DTSTAMP:20260421T122751
CREATED:20260224T040936Z
LAST-MODIFIED:20260224T040936Z
UID:311725-1775753040-1775757600@bozone.com
SUMMARY:Chamber: 4:44 @ 4C
DESCRIPTION:Thursday Apr 9\, 2026\n4:45 PM – 6:00 PM \nMembers: Included with Membership\nNon-members: $25
URL:https://bozone.com/event/chamber-444-4c/
LOCATION:Dry Hills Distillery\, 106 Village Center Lane\, Bozeman\, United States
CATEGORIES:Miscellanea
GEO:45.6727227;-111.1880302
X-APPLE-STRUCTURED-LOCATION;VALUE=URI;X-ADDRESS=Dry Hills Distillery 106 Village Center Lane Bozeman United States;X-APPLE-RADIUS=500;X-TITLE=106 Village Center Lane:geo:-111.1880302,45.6727227
END:VEVENT
END:VCALENDAR