BEGIN:VCALENDAR
VERSION:2.0
PRODID:-//The BoZone - ECPv5.12.0//NONSGML v1.0//EN
CALSCALE:GREGORIAN
METHOD:PUBLISH
X-WR-CALNAME:The BoZone
X-ORIGINAL-URL:https://bozone.com
X-WR-CALDESC:Events for The BoZone
BEGIN:VTIMEZONE
TZID:America/Denver
BEGIN:DAYLIGHT
TZOFFSETFROM:-0700
TZOFFSETTO:-0600
TZNAME:MDT
DTSTART:20250309T090000
END:DAYLIGHT
BEGIN:STANDARD
TZOFFSETFROM:-0600
TZOFFSETTO:-0700
TZNAME:MST
DTSTART:20251102T080000
END:STANDARD
END:VTIMEZONE
BEGIN:VEVENT
DTSTART;TZID=America/Denver:20250703T190000
DTEND;TZID=America/Denver:20250703T190000
DTSTAMP:20260420T152027
CREATED:20250521T040651Z
LAST-MODIFIED:20250521T040718Z
UID:289712-1751569200-1751569200@bozone.com
SUMMARY:Cap'n DH Billy
DESCRIPTION:The Bozeman based solo rock artist Cap’n D.H. Billy (or Levi Main as some call him) has been playing guitar and singing around the Bozeman area for years. Featured in bands such as “Bluebelly Junction” and the Tom Petty Inspired group “The Waiting\,” the Cap’n plays everything from originals to well-known rock charts\, bringing something that everyone can enjoy.\nYou can also ask him to play a song. Or not. Totally up to you. Sure\, throw stuff out there\, maybe something will stick.
URL:https://bozone.com/event/capn-dh-billy/
LOCATION:Bozeman Hot Springs\, 81123 Gallatin Road\, Bozeman\, MT\, 59718\, United States
CATEGORIES:Music
GEO:45.6604005;-111.1877192
X-APPLE-STRUCTURED-LOCATION;VALUE=URI;X-ADDRESS=Bozeman Hot Springs 81123 Gallatin Road Bozeman MT 59718 United States;X-APPLE-RADIUS=500;X-TITLE=81123 Gallatin Road:geo:-111.1877192,45.6604005
END:VEVENT
END:VCALENDAR