BEGIN:VCALENDAR
VERSION:2.0
PRODID:-//The BoZone - ECPv5.12.0//NONSGML v1.0//EN
CALSCALE:GREGORIAN
METHOD:PUBLISH
X-WR-CALNAME:The BoZone
X-ORIGINAL-URL:https://bozone.com
X-WR-CALDESC:Events for The BoZone
BEGIN:VTIMEZONE
TZID:America/Denver
BEGIN:DAYLIGHT
TZOFFSETFROM:-0700
TZOFFSETTO:-0600
TZNAME:MDT
DTSTART:20250309T090000
END:DAYLIGHT
BEGIN:STANDARD
TZOFFSETFROM:-0600
TZOFFSETTO:-0700
TZNAME:MST
DTSTART:20251102T080000
END:STANDARD
END:VTIMEZONE
BEGIN:VEVENT
DTSTART;TZID=America/Denver:20250819T173000
DTEND;TZID=America/Denver:20250819T173000
DTSTAMP:20260421T035720
CREATED:20250813T231025Z
LAST-MODIFIED:20250813T231025Z
UID:295711-1755624600-1755624600@bozone.com
SUMMARY:Canyon Laser Tag
DESCRIPTION:Get ready for adrenaline-pumping action at Canyon Laser Tag\, an outdoor laser tag experience at Yellowstone Alliance Adventures just 10 miles south of Bozeman!Using high-tech gear and mission-based gameplay\, you’ll battle it out in the woods and across our rugged property in fast-paced\, team-oriented challenges. Whether you’re celebrating a birthday\, gathering a group of friends\, or just want to try something new — this is your chance to gear up and get in the game.\n-All players must be 10+ years old -All games are outdoors – wear shoes and clothing for uneven terrain -Located at Yellowstone Alliance Adventures in Cottonwood Canyon\n-Reserve your spot now at: https://www.yaacamp.org/events\nWant to play more often or join exclusive missions? Check out our Member Play option for ages 12-17 & 18+ and get access to weekly sessions\, discounts\, and a members-only tee. Details at the link above!
URL:https://bozone.com/event/canyon-laser-tag-2/
LOCATION:Yellowstone Alliance Adventures\, 13707 Cottonwood Canyon Rd\, Bozeman\, MT\, 59718\, United States
CATEGORIES:Miscellanea
GEO:45.5497905;-111.1079335
X-APPLE-STRUCTURED-LOCATION;VALUE=URI;X-ADDRESS=Yellowstone Alliance Adventures 13707 Cottonwood Canyon Rd Bozeman MT 59718 United States;X-APPLE-RADIUS=500;X-TITLE=13707 Cottonwood Canyon Rd:geo:-111.1079335,45.5497905
END:VEVENT
END:VCALENDAR