BEGIN:VCALENDAR
VERSION:2.0
PRODID:-//The BoZone - ECPv5.12.0//NONSGML v1.0//EN
CALSCALE:GREGORIAN
METHOD:PUBLISH
X-WR-CALNAME:The BoZone
X-ORIGINAL-URL:https://bozone.com
X-WR-CALDESC:Events for The BoZone
BEGIN:VTIMEZONE
TZID:America/Denver
BEGIN:DAYLIGHT
TZOFFSETFROM:-0700
TZOFFSETTO:-0600
TZNAME:MDT
DTSTART:20260308T090000
END:DAYLIGHT
BEGIN:STANDARD
TZOFFSETFROM:-0600
TZOFFSETTO:-0700
TZNAME:MST
DTSTART:20261101T080000
END:STANDARD
END:VTIMEZONE
BEGIN:VEVENT
DTSTART;TZID=America/Denver:20260328T190000
DTEND;TZID=America/Denver:20260328T190000
DTSTAMP:20260424T014649
CREATED:20260224T033430Z
LAST-MODIFIED:20260325T105718Z
UID:311694-1774724400-1774724400@bozone.com
SUMMARY:Bridger Bowl Ski Patrol's 47th Annual Dirt Bag Ball
DESCRIPTION:Mar\n28\n\n\n\n\nThrow on your crustiest threads and get down to a night of live music\, dancing and mischief with\n710 Ashbury & Zach Nytomt Band at the Dirtbag Ball!\n\n\n Saturday\, March 28 @ 7pm\n The Molly Brown\n $20 at the door (21+)\n Silent auction + fundraiser for Bridger Bowl Ski Patrol\n\n\n\n\nDirt Bag Ball\nFundraiser supporting the Bridger Bowl Ski Patrol \n\n\nhttps://bridgerbowl.com/mountain/events
URL:https://bozone.com/event/bridger-bowl-ski-patrols-47th-annual-dirt-bag-ball/
LOCATION:Molly Brown\, 703 W Babcock\, Bozeman\, United States
CATEGORIES:Miscellanea,Music
GEO:45.678596;-111.046924
X-APPLE-STRUCTURED-LOCATION;VALUE=URI;X-ADDRESS=Molly Brown 703 W Babcock Bozeman United States;X-APPLE-RADIUS=500;X-TITLE=703 W Babcock:geo:-111.046924,45.678596
END:VEVENT
END:VCALENDAR