BEGIN:VCALENDAR
VERSION:2.0
PRODID:-//The BoZone - ECPv5.12.0//NONSGML v1.0//EN
CALSCALE:GREGORIAN
METHOD:PUBLISH
X-WR-CALNAME:The BoZone
X-ORIGINAL-URL:https://bozone.com
X-WR-CALDESC:Events for The BoZone
BEGIN:VTIMEZONE
TZID:America/Denver
BEGIN:DAYLIGHT
TZOFFSETFROM:-0700
TZOFFSETTO:-0600
TZNAME:MDT
DTSTART:20250309T090000
END:DAYLIGHT
BEGIN:STANDARD
TZOFFSETFROM:-0600
TZOFFSETTO:-0700
TZNAME:MST
DTSTART:20251102T080000
END:STANDARD
END:VTIMEZONE
BEGIN:VEVENT
DTSTART;TZID=America/Denver:20251212T090000
DTEND;TZID=America/Denver:20251212T160000
DTSTAMP:20260424T024730
CREATED:20251026T232327Z
LAST-MODIFIED:20251026T232327Z
UID:300726-1765530000-1765555200@bozone.com
SUMMARY:BRIDGER BOWL PROJECTED OPENING DAY!
DESCRIPTION:
URL:https://bozone.com/event/bridger-bowl-projected-opening-day/
LOCATION:Bridger Bowl\, 15795 Bridger Canyon Road\, Bozeman\, MT\, 595715\, United States
CATEGORIES:Sporting Events
GEO:45.6793339;-111.0320593
X-APPLE-STRUCTURED-LOCATION;VALUE=URI;X-ADDRESS=Bridger Bowl 15795 Bridger Canyon Road Bozeman MT 595715 United States;X-APPLE-RADIUS=500;X-TITLE=15795 Bridger Canyon Road:geo:-111.0320593,45.6793339
END:VEVENT
END:VCALENDAR