BEGIN:VCALENDAR
VERSION:2.0
PRODID:-//The BoZone - ECPv5.12.0//NONSGML v1.0//EN
CALSCALE:GREGORIAN
METHOD:PUBLISH
X-WR-CALNAME:The BoZone
X-ORIGINAL-URL:https://bozone.com
X-WR-CALDESC:Events for The BoZone
BEGIN:VTIMEZONE
TZID:America/Denver
BEGIN:DAYLIGHT
TZOFFSETFROM:-0700
TZOFFSETTO:-0600
TZNAME:MDT
DTSTART:20250309T090000
END:DAYLIGHT
BEGIN:STANDARD
TZOFFSETFROM:-0600
TZOFFSETTO:-0700
TZNAME:MST
DTSTART:20251102T080000
END:STANDARD
END:VTIMEZONE
BEGIN:VEVENT
DTSTART;TZID=America/Denver:20251018T120000
DTEND;TZID=America/Denver:20251018T120000
DTSTAMP:20260420T224925
CREATED:20251008T035628Z
LAST-MODIFIED:20251010T152815Z
UID:299718-1760788800-1760788800@bozone.com
SUMMARY:Bridger Aerospace Open House!
DESCRIPTION:Come step inside the world of aerial firefighting at our Open House here at\nthe Bozeman Airport! \nBring the whole family to see the aircraft\, meet the crews who fly and\nmaintain them\, snag some Bridger merch\, and learn how we help protect our\ncommunities from wildfires. \nAdmission details: We’re excited to partner with the Gallatin Valley\nFood Bank! Instead of tickets\, we’re asking each family to bring a\nnon-perishable food item to help support our local community. \nDonation Items:\nCanned fruit in juice\nCanned vegetables\nCanned tuna/chicken in water\nCanned beans\nCanned tomato products\nSoup\nPeanut butter\nRice\nCereal\nGranola bars\nPasta\nMac and cheese \nWe can’t wait to see you there!
URL:https://bozone.com/event/bridger-aerospace-open-house/
LOCATION:Bridger Aerospace\, 90 Aviation Ln.\, Belgrade\, MT\, 59714\, United States
CATEGORIES:Miscellanea
GEO:45.7664039;-111.147261
X-APPLE-STRUCTURED-LOCATION;VALUE=URI;X-ADDRESS=Bridger Aerospace 90 Aviation Ln. Belgrade MT 59714 United States;X-APPLE-RADIUS=500;X-TITLE=90 Aviation Ln.:geo:-111.147261,45.7664039
END:VEVENT
END:VCALENDAR