BEGIN:VCALENDAR
VERSION:2.0
PRODID:-//The BoZone - ECPv5.12.0//NONSGML v1.0//EN
CALSCALE:GREGORIAN
METHOD:PUBLISH
X-WR-CALNAME:The BoZone
X-ORIGINAL-URL:https://bozone.com
X-WR-CALDESC:Events for The BoZone
BEGIN:VTIMEZONE
TZID:America/Denver
BEGIN:DAYLIGHT
TZOFFSETFROM:-0700
TZOFFSETTO:-0600
TZNAME:MDT
DTSTART:20260308T090000
END:DAYLIGHT
BEGIN:STANDARD
TZOFFSETFROM:-0600
TZOFFSETTO:-0700
TZNAME:MST
DTSTART:20261101T080000
END:STANDARD
END:VTIMEZONE
BEGIN:VEVENT
DTSTART;TZID=America/Denver:20260911T173000
DTEND;TZID=America/Denver:20260911T173000
DTSTAMP:20260422T013922
CREATED:20260219T143403Z
LAST-MODIFIED:20260219T143403Z
UID:311061-1789147800-1789147800@bozone.com
SUMMARY:Brendan Nolan and Harpdog John
DESCRIPTION:Blues and rock on harmonica and dobro slide guitars.
URL:https://bozone.com/event/brendan-nolan-and-harpdog-john-26/
LOCATION:Willies Distillery – Ennis\, 312 E Main Street\, Ennis\, MT\, 59729\, United States
CATEGORIES:Music
GEO:45.3490537;-111.7259957
X-APPLE-STRUCTURED-LOCATION;VALUE=URI;X-ADDRESS=Willies Distillery – Ennis 312 E Main Street Ennis MT 59729 United States;X-APPLE-RADIUS=500;X-TITLE=312 E Main Street:geo:-111.7259957,45.3490537
END:VEVENT
END:VCALENDAR