BEGIN:VCALENDAR
VERSION:2.0
PRODID:-//The BoZone - ECPv5.12.0//NONSGML v1.0//EN
CALSCALE:GREGORIAN
METHOD:PUBLISH
X-WR-CALNAME:The BoZone
X-ORIGINAL-URL:https://bozone.com
X-WR-CALDESC:Events for The BoZone
BEGIN:VTIMEZONE
TZID:America/Denver
BEGIN:DAYLIGHT
TZOFFSETFROM:-0700
TZOFFSETTO:-0600
TZNAME:MDT
DTSTART:20260308T090000
END:DAYLIGHT
BEGIN:STANDARD
TZOFFSETFROM:-0600
TZOFFSETTO:-0700
TZNAME:MST
DTSTART:20261101T080000
END:STANDARD
END:VTIMEZONE
BEGIN:VEVENT
DTSTART;TZID=America/Denver:20260619T200000
DTEND;TZID=America/Denver:20260619T200000
DTSTAMP:20260421T232743
CREATED:20260219T134537Z
LAST-MODIFIED:20260219T134537Z
UID:310958-1781899200-1781899200@bozone.com
SUMMARY:BPS Ghost walking tours (Pre Reg Rqrd)
DESCRIPTION:Join Bozeman Paranormal on our annual ghost walking tours.\nLearn about the colorful history of Bozeman’s past residents and reports of paranormal activity in various downtown locations. \nTry your hand at some real ghost hunting equipment (ghosts not guaranteed!) \nThese tours are family friendly and meet in next to te court house 3rd and main \nThe 8:00pm Tour will include special building access and is limited to 10 people. \nTours last approximately two and a half hours\, depending on walking speed of group and questions. \nAssistive Hearing Devices available. \nONLINE RESERVATIONS ARE REQUIRED\, please only book if you are committed to participating as their are no refunds. \nChildren under 7 years old are free. \n10 a person\nsenior discount on event brite and other ticket prices on there.\nDates\nJune 19\,20th\nJuly 10th\, 11th\nAug 28th\, 29th\nSept 11th\, 12th\nNov 6th\, 7th\nTimes- 8pm to 11pm\nticket info on this link and address \nhttps://www.eventbrite.com/e/bps-ghost-walking-tours-tickets-58112236263
URL:https://bozone.com/event/bps-ghost-walking-tours-pre-reg-rqrd/
CATEGORIES:Lectures
END:VEVENT
END:VCALENDAR