BEGIN:VCALENDAR
VERSION:2.0
PRODID:-//The BoZone - ECPv5.12.0//NONSGML v1.0//EN
CALSCALE:GREGORIAN
METHOD:PUBLISH
X-WR-CALNAME:The BoZone
X-ORIGINAL-URL:https://bozone.com
X-WR-CALDESC:Events for The BoZone
BEGIN:VTIMEZONE
TZID:America/Denver
BEGIN:DAYLIGHT
TZOFFSETFROM:-0700
TZOFFSETTO:-0600
TZNAME:MDT
DTSTART:20250309T090000
END:DAYLIGHT
BEGIN:STANDARD
TZOFFSETFROM:-0600
TZOFFSETTO:-0700
TZNAME:MST
DTSTART:20251102T080000
END:STANDARD
END:VTIMEZONE
BEGIN:VEVENT
DTSTART;TZID=America/Denver:20250805T170000
DTEND;TZID=America/Denver:20250805T200000
DTSTAMP:20260422T215828
CREATED:20250730T000557Z
LAST-MODIFIED:20250730T000557Z
UID:294747-1754413200-1754424000@bozone.com
SUMMARY:BPD & GCSO National Night Out
DESCRIPTION:National Night Out\n\n08/05/2025\n5:00 PM – 8:00 PM\nBozeman Pond Park\n550 S. Fowler Ave\nBozeman\, Montana 59718\n\n\nOn Tuesday\, Aug. 5\, the Bozeman Police Department and Gallatin County Sheriff’s Office will host their annual National Night Out from 5 to 8 p.m. at Bozeman Pond Park. The free\, family-friendly event aims to bring neighborhoods\, businesses\, and public safety agencies together to promote a positive partnership. \nThe event will feature a variety of activities for all ages\, including live demonstrations\, equipment tours\, and face painting. More than a dozen agencies will be in attendance\, with everything from fire engines to helicopters on display. Thanks to the Bozeman Police Foundation and Gallatin County Public Safety Foundation\, there will be free food and snow cones for the first 400 attendees. \nParking will be available on the street and the event will be located on the south side of the park. \nFor more information about the event\, visit bozemanpolice.com or call the Bozeman Police Department at (406) 582-2000.
URL:https://bozone.com/event/bpd-gcso-national-night-out/
LOCATION:Bozeman Pond Park\, 700 S Fowler Ave\, Bozeman\, MT\, 59718\, United States
CATEGORIES:Miscellanea
GEO:45.6718204;-111.0834137
X-APPLE-STRUCTURED-LOCATION;VALUE=URI;X-ADDRESS=Bozeman Pond Park 700 S Fowler Ave Bozeman MT 59718 United States;X-APPLE-RADIUS=500;X-TITLE=700 S Fowler Ave:geo:-111.0834137,45.6718204
END:VEVENT
END:VCALENDAR