BEGIN:VCALENDAR
VERSION:2.0
PRODID:-//The BoZone - ECPv5.12.0//NONSGML v1.0//EN
CALSCALE:GREGORIAN
METHOD:PUBLISH
X-WR-CALNAME:The BoZone
X-ORIGINAL-URL:https://bozone.com
X-WR-CALDESC:Events for The BoZone
BEGIN:VTIMEZONE
TZID:America/Denver
BEGIN:DAYLIGHT
TZOFFSETFROM:-0700
TZOFFSETTO:-0600
TZNAME:MDT
DTSTART:20260308T090000
END:DAYLIGHT
BEGIN:STANDARD
TZOFFSETFROM:-0600
TZOFFSETTO:-0700
TZNAME:MST
DTSTART:20261101T080000
END:STANDARD
END:VTIMEZONE
BEGIN:VEVENT
DTSTART;TZID=America/Denver:20260131T090000
DTEND;TZID=America/Denver:20260131T090000
DTSTAMP:20260419T070138
CREATED:20260118T001804Z
LAST-MODIFIED:20260118T001804Z
UID:305724-1769850000-1769850000@bozone.com
SUMMARY:Bozeman Winter Classic Pickleball Tournament
DESCRIPTION:Bozeman Winter Classic Pickleball Tournament\nMiLP Minor League Pickleball format with 2 men & 2 women on each team. Sponsored by Bozeman Pickleball. Availability in 12\, 14 & 18 divisions if you want to sign-up your team ($70/person)\, or just come as a spectator and join the fun.\n12 & 18 Divisions Sat. 1/31\,\n14 & 16 Divisions Sun. 2/1. \nCome to the new Picklr – 13 courts\, gym\, locker rooms & showers with plenty of lounge areas for viewing.\nSat. night after 6pm we will have a big party featuring specialty drinks from Willie’s Distillery! \nPlayer registration: Go to www.swishtournaments.com and search Bozeman Winter Classic. Spectators welcome!
URL:https://bozone.com/event/bozeman-winter-classic-pickleball-tournament-2/
LOCATION:The Picklr Bozeman\, 225 Laura Louise Ln\, Bozeman\, MT\, 59718\, United States
CATEGORIES:Sporting Events
END:VEVENT
END:VCALENDAR