BEGIN:VCALENDAR
VERSION:2.0
PRODID:-//The BoZone - ECPv5.12.0//NONSGML v1.0//EN
CALSCALE:GREGORIAN
METHOD:PUBLISH
X-WR-CALNAME:The BoZone
X-ORIGINAL-URL:https://bozone.com
X-WR-CALDESC:Events for The BoZone
BEGIN:VTIMEZONE
TZID:America/Denver
BEGIN:DAYLIGHT
TZOFFSETFROM:-0700
TZOFFSETTO:-0600
TZNAME:MDT
DTSTART:20260308T090000
END:DAYLIGHT
BEGIN:STANDARD
TZOFFSETFROM:-0600
TZOFFSETTO:-0700
TZNAME:MST
DTSTART:20261101T080000
END:STANDARD
END:VTIMEZONE
BEGIN:VEVENT
DTSTART;TZID=America/Denver:20261009T180000
DTEND;TZID=America/Denver:20261009T180000
DTSTAMP:20260424T144559
CREATED:20251228T000444Z
LAST-MODIFIED:20251228T000444Z
UID:303937-1791568800-1791568800@bozone.com
SUMMARY:Bozeman Film Festival 2026
DESCRIPTION:Bozeman Film Festival 2026 \nProduced by Bozeman Film Society  \nOctober 8-11\, 2026 \nDowntown Bozeman
URL:https://bozone.com/event/bozeman-film-festival-2026-2/
LOCATION:Downtown Bozeman\, Bozeman\, MT\, 59715\, United States
CATEGORIES:Lectures,Miscellanea,Movies
GEO:45.6769979;-111.0429339
END:VEVENT
END:VCALENDAR