BEGIN:VCALENDAR
VERSION:2.0
PRODID:-//The BoZone - ECPv5.12.0//NONSGML v1.0//EN
CALSCALE:GREGORIAN
METHOD:PUBLISH
X-WR-CALNAME:The BoZone
X-ORIGINAL-URL:https://bozone.com
X-WR-CALDESC:Events for The BoZone
BEGIN:VTIMEZONE
TZID:America/Denver
BEGIN:DAYLIGHT
TZOFFSETFROM:-0700
TZOFFSETTO:-0600
TZNAME:MDT
DTSTART:20260308T090000
END:DAYLIGHT
BEGIN:STANDARD
TZOFFSETFROM:-0600
TZOFFSETTO:-0700
TZNAME:MST
DTSTART:20261101T080000
END:STANDARD
END:VTIMEZONE
BEGIN:VEVENT
DTSTART;TZID=America/Denver:20260428T180000
DTEND;TZID=America/Denver:20260428T180000
DTSTAMP:20260425T144235
CREATED:20250928T202150Z
LAST-MODIFIED:20260327T001959Z
UID:298702-1777399200-1777399200@bozone.com
SUMMARY:Bozeman Backgammon Club
DESCRIPTION:Bozeman Backgammon Club\n\nThe best player is the one having the most fun!\nGute Laune. Every Tuesday. 6-8:30ish
URL:https://bozone.com/event/bozeman-backgammon-club-10/
LOCATION:Gute Laune Wurstbar above The Rialto\, 10 WEST MAIN STREET\, Bozeman\, MT\, 59715\, United States
CATEGORIES:Miscellanea
GEO:45.6790349;-111.0376605
X-APPLE-STRUCTURED-LOCATION;VALUE=URI;X-ADDRESS=Gute Laune Wurstbar above The Rialto 10 WEST MAIN STREET Bozeman MT 59715 United States;X-APPLE-RADIUS=500;X-TITLE=10 WEST MAIN STREET:geo:-111.0376605,45.6790349
END:VEVENT
END:VCALENDAR