BEGIN:VCALENDAR
VERSION:2.0
PRODID:-//The BoZone - ECPv5.12.0//NONSGML v1.0//EN
CALSCALE:GREGORIAN
METHOD:PUBLISH
X-WR-CALNAME:The BoZone
X-ORIGINAL-URL:https://bozone.com
X-WR-CALDESC:Events for The BoZone
BEGIN:VTIMEZONE
TZID:America/Denver
BEGIN:DAYLIGHT
TZOFFSETFROM:-0700
TZOFFSETTO:-0600
TZNAME:MDT
DTSTART:20260308T090000
END:DAYLIGHT
BEGIN:STANDARD
TZOFFSETFROM:-0600
TZOFFSETTO:-0700
TZNAME:MST
DTSTART:20261101T080000
END:STANDARD
END:VTIMEZONE
BEGIN:VEVENT
DTSTART;TZID=America/Denver:20260108T190000
DTEND;TZID=America/Denver:20260108T190000
DTSTAMP:20260421T122902
CREATED:20251228T171119Z
LAST-MODIFIED:20251228T171119Z
UID:304286-1767898800-1767898800@bozone.com
SUMMARY:BOZ DOC Series: Yanuni
DESCRIPTION:Thu8\nEmerson Center for the Arts and Culture 111 S. Grand Ave.\, Bozeman\, MT\, United States\n\n\n\n\nOn Thursday\, January 8th\, at 7pm at the Emerson Center\, the Bozeman Doc Series continues with the the Montana premiere of the powerful new documentary\, Yanuni. \nA vivid cinematic portrait\, Yanuni tells the story of Juma Xipaia\, an Indigenous chief from the Brazilian Amazon who rises from a remote village in the jungle to being appointed Brazil’s first Secretary of Indigenous Rights. A fearless defender of her people and the rainforest\, Juma has survived multiple assassination attempts while confronting illegal gold miners\, land-grabbers\, and multinational corporations threatening her ancestral land. At her side is Hugo Loss\, her husband and the head of Special Operations at IBAMA\, Brazil’s environmental protection agency. As Juma fights on the political front\, Hugo leads dangerous operations to dismantle illegal mining camps deep in the Amazon—often under armed threat.
URL:https://bozone.com/event/boz-doc-series-yanuni/
LOCATION:Emerson Center for Arts and Culture\, MT\, United States
CATEGORIES:Movies
GEO:46.8796822;-110.3625658
END:VEVENT
END:VCALENDAR