BEGIN:VCALENDAR
VERSION:2.0
PRODID:-//The BoZone - ECPv5.12.0//NONSGML v1.0//EN
CALSCALE:GREGORIAN
METHOD:PUBLISH
X-WR-CALNAME:The BoZone
X-ORIGINAL-URL:https://bozone.com
X-WR-CALDESC:Events for The BoZone
BEGIN:VTIMEZONE
TZID:America/Denver
BEGIN:DAYLIGHT
TZOFFSETFROM:-0700
TZOFFSETTO:-0600
TZNAME:MDT
DTSTART:20260308T090000
END:DAYLIGHT
BEGIN:STANDARD
TZOFFSETFROM:-0600
TZOFFSETTO:-0700
TZNAME:MST
DTSTART:20261101T080000
END:STANDARD
END:VTIMEZONE
BEGIN:VEVENT
DTSTART;TZID=America/Denver:20260313T200000
DTEND;TZID=America/Denver:20260313T200000
DTSTAMP:20260422T081648
CREATED:20260214T011535Z
LAST-MODIFIED:20260214T011535Z
UID:310793-1773432000-1773432000@bozone.com
SUMMARY:Bluebelly Junction
DESCRIPTION:Bluebelly is back—after a decade of shaking up Montana bars and stages\, releasing their debut album Hot Wet Mess in 2024\, and briefly calling it quits\, the Cap’n has resurrected the band for a whole new era. This 2025 lineup is pushing genre boundaries harder than ever\, blending styles with zero apologies. Get ready for exceptional originals\, wild covers\, and mashups built for one thing only: keeping the dance floor alive. This Friday from 8-11 PM at your favorite place to cut rugs and say no to drugs\, The Jump!
URL:https://bozone.com/event/bluebelly-junction-2/
LOCATION:The Jump\, 75770 Gallatin Rd\, Gallatin Gateway\, MT\, 59730\, United States
CATEGORIES:Music
GEO:45.58333;-111.1969895
X-APPLE-STRUCTURED-LOCATION;VALUE=URI;X-ADDRESS=The Jump 75770 Gallatin Rd Gallatin Gateway MT 59730 United States;X-APPLE-RADIUS=500;X-TITLE=75770 Gallatin Rd:geo:-111.1969895,45.58333
END:VEVENT
END:VCALENDAR