BEGIN:VCALENDAR
VERSION:2.0
PRODID:-//The BoZone - ECPv5.12.0//NONSGML v1.0//EN
CALSCALE:GREGORIAN
METHOD:PUBLISH
X-WR-CALNAME:The BoZone
X-ORIGINAL-URL:https://bozone.com
X-WR-CALDESC:Events for The BoZone
BEGIN:VTIMEZONE
TZID:America/Denver
BEGIN:DAYLIGHT
TZOFFSETFROM:-0700
TZOFFSETTO:-0600
TZNAME:MDT
DTSTART:20260308T090000
END:DAYLIGHT
BEGIN:STANDARD
TZOFFSETFROM:-0600
TZOFFSETTO:-0700
TZNAME:MST
DTSTART:20261101T080000
END:STANDARD
END:VTIMEZONE
BEGIN:VEVENT
DTSTART;TZID=America/Denver:20260726T190000
DTEND;TZID=America/Denver:20260726T190000
DTSTAMP:20260420T164200
CREATED:20260219T182311Z
LAST-MODIFIED:20260219T182311Z
UID:311075-1785092400-1785092400@bozone.com
SUMMARY:Blue Öyster Cult
DESCRIPTION:Blue Öyster Cult\n\nSunday\, July 26\, 2026\n7:00 PM  10:00 PM\n\n\n\n\n\n\n\n\nTICKETS FOR THIS SHOW GO ON SALE FRIDAY\, FEBRUARY 20TH AT 10A \nBLUE ÖYSTER CULT \n$60 ADVANCE – $85 DAY OF SHOW \nOr purchase a Canvas Tent or Tent Spot (Includes two tickets)
URL:https://bozone.com/event/blue-oyster-cult/
LOCATION:Pine Creek Lodge – LV\, 2496 East River Road\, Livingston\, United States
CATEGORIES:Music
GEO:45.5076317;-110.5635992
X-APPLE-STRUCTURED-LOCATION;VALUE=URI;X-ADDRESS=Pine Creek Lodge – LV 2496 East River Road Livingston United States;X-APPLE-RADIUS=500;X-TITLE=2496 East River Road:geo:-110.5635992,45.5076317
END:VEVENT
END:VCALENDAR