BEGIN:VCALENDAR
VERSION:2.0
PRODID:-//The BoZone - ECPv5.12.0//NONSGML v1.0//EN
CALSCALE:GREGORIAN
METHOD:PUBLISH
X-WR-CALNAME:The BoZone
X-ORIGINAL-URL:https://bozone.com
X-WR-CALDESC:Events for The BoZone
BEGIN:VTIMEZONE
TZID:America/Denver
BEGIN:DAYLIGHT
TZOFFSETFROM:-0700
TZOFFSETTO:-0600
TZNAME:MDT
DTSTART:20250309T090000
END:DAYLIGHT
BEGIN:STANDARD
TZOFFSETFROM:-0600
TZOFFSETTO:-0700
TZNAME:MST
DTSTART:20251102T080000
END:STANDARD
END:VTIMEZONE
BEGIN:VEVENT
DTSTART;TZID=America/Denver:20251208T180000
DTEND;TZID=America/Denver:20251208T180000
DTSTAMP:20260424T162955
CREATED:20251124T143554Z
LAST-MODIFIED:20251124T143554Z
UID:302182-1765216800-1765216800@bozone.com
SUMMARY:Bird Woman's Legacy
DESCRIPTION:Sacajawea Audubon Society Special Holiday Program Monday\, December 8\, 2025 at the Emerson Center for Arts and Culture\n6:00 PM Come learn about Sacajawea Audubon’s many programs while enjoying food and refreshments.\n7:00 PM Uschi Carpenter\, well known photographer and poet from Missoula\, will present a stunning program of her bird photos titled Bird Woman’s Legacy. Preserving What is Threatened with Fortitude and Resolution.\nBuy a raffle ticket to win a season pass to Bridger Bowl Ski Area. Two winners will be drawn!\nThis event is free and open to the public
URL:https://bozone.com/event/bird-womans-legacy/
LOCATION:Emerson Center for Arts and Culture\, MT\, United States
CATEGORIES:Miscellanea
GEO:46.8796822;-110.3625658
END:VEVENT
END:VCALENDAR