BEGIN:VCALENDAR
VERSION:2.0
PRODID:-//The BoZone - ECPv5.12.0//NONSGML v1.0//EN
CALSCALE:GREGORIAN
METHOD:PUBLISH
X-WR-CALNAME:The BoZone
X-ORIGINAL-URL:https://bozone.com
X-WR-CALDESC:Events for The BoZone
BEGIN:VTIMEZONE
TZID:America/Denver
BEGIN:DAYLIGHT
TZOFFSETFROM:-0700
TZOFFSETTO:-0600
TZNAME:MDT
DTSTART:20260308T090000
END:DAYLIGHT
BEGIN:STANDARD
TZOFFSETFROM:-0600
TZOFFSETTO:-0700
TZNAME:MST
DTSTART:20261101T080000
END:STANDARD
END:VTIMEZONE
BEGIN:VEVENT
DTSTART;TZID=America/Denver:20260530T080000
DTEND;TZID=America/Denver:20260530T140000
DTSTAMP:20260419T104520
CREATED:20260412T123516Z
LAST-MODIFIED:20260412T123516Z
UID:315672-1780128000-1780149600@bozone.com
SUMMARY:Bike for Better Tomorrows
DESCRIPTION:Bike for Better Tomorrows is a community bike ride sponsored by the Bozeman Rotary Club\, taking place on May 30\, 8:00 am – 2:00 pm at the Lindley Center\, with all proceeds benefiting HRDC youth programs. This family-friendly morning event invites kids\, teens\, parents\, and community members to ride together in support of brighter futures for young people across our region. https://www.bikesignup.com/Race/MT/Bozeman/B4BT
URL:https://bozone.com/event/bike-for-better-tomorrows/
LOCATION:Lindley Center\, 1102 E Curtiss\, Bozeman\, United States
CATEGORIES:Miscellanea,Sporting Events
GEO:45.6762528;-111.021814
X-APPLE-STRUCTURED-LOCATION;VALUE=URI;X-ADDRESS=Lindley Center 1102 E Curtiss Bozeman United States;X-APPLE-RADIUS=500;X-TITLE=1102 E Curtiss:geo:-111.021814,45.6762528
END:VEVENT
END:VCALENDAR