BEGIN:VCALENDAR
VERSION:2.0
PRODID:-//The BoZone - ECPv5.12.0//NONSGML v1.0//EN
CALSCALE:GREGORIAN
METHOD:PUBLISH
X-WR-CALNAME:The BoZone
X-ORIGINAL-URL:https://bozone.com
X-WR-CALDESC:Events for The BoZone
BEGIN:VTIMEZONE
TZID:America/Denver
BEGIN:DAYLIGHT
TZOFFSETFROM:-0700
TZOFFSETTO:-0600
TZNAME:MDT
DTSTART:20250309T090000
END:DAYLIGHT
BEGIN:STANDARD
TZOFFSETFROM:-0600
TZOFFSETTO:-0700
TZNAME:MST
DTSTART:20251102T080000
END:STANDARD
END:VTIMEZONE
BEGIN:VEVENT
DTSTART;TZID=America/Denver:20251227T190000
DTEND;TZID=America/Denver:20251227T190000
DTSTAMP:20260422T221306
CREATED:20251126T201256Z
LAST-MODIFIED:20251126T201550Z
UID:302636-1766862000-1766862000@bozone.com
SUMMARY:BFS presents: Blue Moon
DESCRIPTION:Blue Moon7:00 PM Saturday\, Dec. 27The Ellen Theatre\n\n\nTIX ON SALE SOON\n\n\nOn the evening of March 31\, 1943\, legendary lyricist Lorenz Hart (Ethan Hawke) confronts his shattered self-confidence in Sardi’s bar as his former collaborator Richard Rodgers (Andrew Scott) celebrates the opening night of his ground-breaking hit musical “Oklahoma!” Rated R. 1h 40m.​ \nDirected by: Richard LinklaterWritten by: Robert KaplowStarring: Ethan Hawke\, Margaret Qualley\, Bobby Cannavale\, & Andrew Scott
URL:https://bozone.com/event/bfs-presents-blue-moon/
LOCATION:The Ellen Theatre\, 17 W Main\, Bozeman\, MT\, 59715\, United States
CATEGORIES:Movies
GEO:45.6794524;-111.037852
X-APPLE-STRUCTURED-LOCATION;VALUE=URI;X-ADDRESS=The Ellen Theatre 17 W Main Bozeman MT 59715 United States;X-APPLE-RADIUS=500;X-TITLE=17 W Main:geo:-111.037852,45.6794524
END:VEVENT
END:VCALENDAR