BEGIN:VCALENDAR
VERSION:2.0
PRODID:-//The BoZone - ECPv5.12.0//NONSGML v1.0//EN
CALSCALE:GREGORIAN
METHOD:PUBLISH
X-WR-CALNAME:The BoZone
X-ORIGINAL-URL:https://bozone.com
X-WR-CALDESC:Events for The BoZone
BEGIN:VTIMEZONE
TZID:America/Denver
BEGIN:DAYLIGHT
TZOFFSETFROM:-0700
TZOFFSETTO:-0600
TZNAME:MDT
DTSTART:20260308T090000
END:DAYLIGHT
BEGIN:STANDARD
TZOFFSETFROM:-0600
TZOFFSETTO:-0700
TZNAME:MST
DTSTART:20261101T080000
END:STANDARD
END:VTIMEZONE
BEGIN:VEVENT
DTSTART;TZID=America/Denver:20260128T184500
DTEND;TZID=America/Denver:20260128T184500
DTSTAMP:20260420T193621
CREATED:20251228T171820Z
LAST-MODIFIED:20251228T171820Z
UID:304263-1769625900-1769625900@bozone.com
SUMMARY:BFS Film: The Secret Agent
DESCRIPTION:The Secret AgentFrance\, Netherlands\, Germany\, BrazilBFS WINTER FILM SERIES AT RIALTO THEATRE6:45 PM Wednesday\, January 28\n\nVisit Tix Site\n\nDirected by Kleber Mendonça; Starring Wagner Mourra\, Carlos Francisco\, Tânia Maria \nCannes Winner: Best Actor and Best Director \n3 Golden Globe Nominations \n\n\nBrazil\, 1977. Marcelo\, a technology expert in his early 40s\, is on the run. Hoping to reunite with his son\, he travels to Recife during Carnival but soon realizes that the city is not the safe haven he was expecting. Winner of Best Director and Best Actor in Cannes. In Portugese with subtitles. Rated R. 159 minutes.
URL:https://bozone.com/event/bfs-film-the-secret-agent-2/
LOCATION:The Rialto\, 10 West Main street\, Bozeman\, MT\, 59715\, United States
CATEGORIES:Movies
GEO:45.6791025;-111.0375983
X-APPLE-STRUCTURED-LOCATION;VALUE=URI;X-ADDRESS=The Rialto 10 West Main street Bozeman MT 59715 United States;X-APPLE-RADIUS=500;X-TITLE=10 West Main street:geo:-111.0375983,45.6791025
END:VEVENT
END:VCALENDAR