BEGIN:VCALENDAR
VERSION:2.0
PRODID:-//The BoZone - ECPv5.12.0//NONSGML v1.0//EN
CALSCALE:GREGORIAN
METHOD:PUBLISH
X-WR-CALNAME:The BoZone
X-ORIGINAL-URL:https://bozone.com
X-WR-CALDESC:Events for The BoZone
BEGIN:VTIMEZONE
TZID:America/Denver
BEGIN:DAYLIGHT
TZOFFSETFROM:-0700
TZOFFSETTO:-0600
TZNAME:MDT
DTSTART:20260308T090000
END:DAYLIGHT
BEGIN:STANDARD
TZOFFSETFROM:-0600
TZOFFSETTO:-0700
TZNAME:MST
DTSTART:20261101T080000
END:STANDARD
END:VTIMEZONE
BEGIN:VEVENT
DTSTART;TZID=America/Denver:20260131T180000
DTEND;TZID=America/Denver:20260131T180000
DTSTAMP:20260422T182000
CREATED:20251228T033349Z
LAST-MODIFIED:20251228T033349Z
UID:304067-1769882400-1769882400@bozone.com
SUMMARY:Benn Busalacchi Duo
DESCRIPTION:Saturday\, Jan 31\, 6-9 PM\nBenn Busalacchi Duo\nLive Music — Vista Hall
URL:https://bozone.com/event/benn-busalacchi-duo-3/
LOCATION:Vista Hall – Big Sky Resort\, 50 Big Sky Resort Rd\, Big Sky\, MT\, 59716\, United States
CATEGORIES:Music
GEO:45.2857407;-111.4012409
X-APPLE-STRUCTURED-LOCATION;VALUE=URI;X-ADDRESS=Vista Hall – Big Sky Resort 50 Big Sky Resort Rd Big Sky MT 59716 United States;X-APPLE-RADIUS=500;X-TITLE=50 Big Sky Resort Rd:geo:-111.4012409,45.2857407
END:VEVENT
END:VCALENDAR