BEGIN:VCALENDAR
VERSION:2.0
PRODID:-//The BoZone - ECPv5.12.0//NONSGML v1.0//EN
CALSCALE:GREGORIAN
METHOD:PUBLISH
X-WR-CALNAME:The BoZone
X-ORIGINAL-URL:https://bozone.com
X-WR-CALDESC:Events for The BoZone
BEGIN:VTIMEZONE
TZID:America/Denver
BEGIN:DAYLIGHT
TZOFFSETFROM:-0700
TZOFFSETTO:-0600
TZNAME:MDT
DTSTART:20260308T090000
END:DAYLIGHT
BEGIN:STANDARD
TZOFFSETFROM:-0600
TZOFFSETTO:-0700
TZNAME:MST
DTSTART:20261101T080000
END:STANDARD
END:VTIMEZONE
BEGIN:VEVENT
DTSTART;TZID=America/Denver:20260306T200000
DTEND;TZID=America/Denver:20260306T200000
DTSTAMP:20260422T020632
CREATED:20260214T011527Z
LAST-MODIFIED:20260214T011527Z
UID:310795-1772827200-1772827200@bozone.com
SUMMARY:Band of Drifters
DESCRIPTION:Band of Drifters\, Montana’s roaming country torchbearers\, roll in with boot-stomping dance tunes and road-worn stories that feel instantly familiar and dangerously catchy 🤠🎶Every lyric hits honest\, every groove begs you onto the floor\, and before you know it you’re living inside the song. \nCatch them live at The Jump this Friday from 8–11 PM and plan on leaving with tired legs\, loud cheers\, and boots that earned it.
URL:https://bozone.com/event/band-of-drifters-11/
LOCATION:The Jump\, 75770 Gallatin Rd\, Gallatin Gateway\, MT\, 59730\, United States
CATEGORIES:Music
GEO:45.58333;-111.1969895
X-APPLE-STRUCTURED-LOCATION;VALUE=URI;X-ADDRESS=The Jump 75770 Gallatin Rd Gallatin Gateway MT 59730 United States;X-APPLE-RADIUS=500;X-TITLE=75770 Gallatin Rd:geo:-111.1969895,45.58333
END:VEVENT
END:VCALENDAR