BEGIN:VCALENDAR
VERSION:2.0
PRODID:-//The BoZone - ECPv5.12.0//NONSGML v1.0//EN
CALSCALE:GREGORIAN
METHOD:PUBLISH
X-WR-CALNAME:The BoZone
X-ORIGINAL-URL:https://bozone.com
X-WR-CALDESC:Events for The BoZone
BEGIN:VTIMEZONE
TZID:America/Denver
BEGIN:DAYLIGHT
TZOFFSETFROM:-0700
TZOFFSETTO:-0600
TZNAME:MDT
DTSTART:20250309T090000
END:DAYLIGHT
BEGIN:STANDARD
TZOFFSETFROM:-0600
TZOFFSETTO:-0700
TZNAME:MST
DTSTART:20251102T080000
END:STANDARD
END:VTIMEZONE
BEGIN:VEVENT
DTSTART;TZID=America/Denver:20250725T170000
DTEND;TZID=America/Denver:20250725T170000
DTSTAMP:20260420T195513
CREATED:20250629T052155Z
LAST-MODIFIED:20250629T052236Z
UID:293383-1753462800-1753462800@bozone.com
SUMMARY:Authors: Bruce A Bugbee\, Robert J. Kiesling & John B. Wright
DESCRIPTION:July 25 @ 5:00 pm – 8:00 pm\nBruce A Bugbee\, Robert J. Kiesling & John B. Wright\n\n\nJoin us for a book signing with authors Bruce A. Bugbee\, Robert J. Kiesling\, and John B. Wright\, Saving the Big Sky: A Chronicle of Land Conservation in Montana\, during the July Art Walk on Friday\, July 25th from 5 to 8 pm.
URL:https://bozone.com/event/authors-bruce-a-bugbee-robert-j-kiesling-john-b-wright/
LOCATION:Wheatgrass Books – Livingston\, 120 N. Main\, Livingston\, MT\, 59047\, United States
CATEGORIES:Miscellanea
GEO:45.6622081;-110.5602921
X-APPLE-STRUCTURED-LOCATION;VALUE=URI;X-ADDRESS=Wheatgrass Books – Livingston 120 N. Main Livingston MT 59047 United States;X-APPLE-RADIUS=500;X-TITLE=120 N. Main:geo:-110.5602921,45.6622081
END:VEVENT
END:VCALENDAR