BEGIN:VCALENDAR
VERSION:2.0
PRODID:-//The BoZone - ECPv5.12.0//NONSGML v1.0//EN
CALSCALE:GREGORIAN
METHOD:PUBLISH
X-WR-CALNAME:The BoZone
X-ORIGINAL-URL:https://bozone.com
X-WR-CALDESC:Events for The BoZone
BEGIN:VTIMEZONE
TZID:America/Denver
BEGIN:DAYLIGHT
TZOFFSETFROM:-0700
TZOFFSETTO:-0600
TZNAME:MDT
DTSTART:20250309T090000
END:DAYLIGHT
BEGIN:STANDARD
TZOFFSETFROM:-0600
TZOFFSETTO:-0700
TZNAME:MST
DTSTART:20251102T080000
END:STANDARD
END:VTIMEZONE
BEGIN:VEVENT
DTSTART;TZID=America/Denver:20251117T180000
DTEND;TZID=America/Denver:20251117T180000
DTSTAMP:20260421T185230
CREATED:20251025T021441Z
LAST-MODIFIED:20251025T021441Z
UID:300218-1763402400-1763402400@bozone.com
SUMMARY:Author Talk with Shobha Rao
DESCRIPTION:Country Bookshelf is excited to welcome award-winning author Shobha Rao to discuss her new novel\, Indian Country.\nWhen: November 17 at 6pm\nWhere: Country Bookshelf in downtown Bozeman \nTickets are not required for this event\, but RSVPs are appreciated. For more information and to RSVP\, visit www.countrybookshelf.com/events or call us at (406) 587-0166.
URL:https://bozone.com/event/author-talk-with-shobha-rao/
LOCATION:Country Bookshelf\, 28 W Main St.\, Bozeman\, MT\, 59715\, United States
CATEGORIES:Arts & Theatre,Lectures,Miscellanea
GEO:45.6789859;-111.0381637
X-APPLE-STRUCTURED-LOCATION;VALUE=URI;X-ADDRESS=Country Bookshelf 28 W Main St. Bozeman MT 59715 United States;X-APPLE-RADIUS=500;X-TITLE=28 W Main St.:geo:-111.0381637,45.6789859
END:VEVENT
END:VCALENDAR