BEGIN:VCALENDAR
VERSION:2.0
PRODID:-//The BoZone - ECPv5.12.0//NONSGML v1.0//EN
CALSCALE:GREGORIAN
METHOD:PUBLISH
X-WR-CALNAME:The BoZone
X-ORIGINAL-URL:https://bozone.com
X-WR-CALDESC:Events for The BoZone
BEGIN:VTIMEZONE
TZID:America/Denver
BEGIN:DAYLIGHT
TZOFFSETFROM:-0700
TZOFFSETTO:-0600
TZNAME:MDT
DTSTART:20260308T090000
END:DAYLIGHT
BEGIN:STANDARD
TZOFFSETFROM:-0600
TZOFFSETTO:-0700
TZNAME:MST
DTSTART:20261101T080000
END:STANDARD
END:VTIMEZONE
BEGIN:VEVENT
DTSTART;TZID=America/Denver:20260424T120000
DTEND;TZID=America/Denver:20260424T120000
DTSTAMP:20260423T050359
CREATED:20260422T220358Z
LAST-MODIFIED:20260422T220358Z
UID:316260-1777032000-1777032000@bozone.com
SUMMARY:Arbor Day Tree Planting
DESCRIPTION:Celebrate Arbor Day with the City of Bozeman and Gallatin Watershed Council by planting trees at Westbrook and Boulder Creek Parks! This event is under the canopy of Branch Out Bozeman\, an urban tree-planting initiative.
URL:https://bozone.com/event/arbor-day-tree-planting-2/
LOCATION:Boulder Creek Park\, 800 Laurel Pkwy\, Bozeman\, MT\, United States
CATEGORIES:Miscellanea
GEO:45.689391;-111.1139653
X-APPLE-STRUCTURED-LOCATION;VALUE=URI;X-ADDRESS=Boulder Creek Park 800 Laurel Pkwy Bozeman MT United States;X-APPLE-RADIUS=500;X-TITLE=800 Laurel Pkwy:geo:-111.1139653,45.689391
END:VEVENT
END:VCALENDAR