BEGIN:VCALENDAR
VERSION:2.0
PRODID:-//The BoZone - ECPv5.12.0//NONSGML v1.0//EN
CALSCALE:GREGORIAN
METHOD:PUBLISH
X-WR-CALNAME:The BoZone
X-ORIGINAL-URL:https://bozone.com
X-WR-CALDESC:Events for The BoZone
BEGIN:VTIMEZONE
TZID:America/Denver
BEGIN:DAYLIGHT
TZOFFSETFROM:-0700
TZOFFSETTO:-0600
TZNAME:MDT
DTSTART:20250309T090000
END:DAYLIGHT
BEGIN:STANDARD
TZOFFSETFROM:-0600
TZOFFSETTO:-0700
TZNAME:MST
DTSTART:20251102T080000
END:STANDARD
END:VTIMEZONE
BEGIN:VEVENT
DTSTART;TZID=America/Denver:20250817T170000
DTEND;TZID=America/Denver:20250817T170000
DTSTAMP:20260420T060235
CREATED:20250728T184115Z
LAST-MODIFIED:20250728T184115Z
UID:294343-1755450000-1755450000@bozone.com
SUMMARY:Annual Neighborhood Block Party.. Music by TWANG 6:00
DESCRIPTION:August 17  Annual Neighborhood Block Party.. Music by TWANG 6:00 \nAUGUST 17\, 2025 \n125th Anniversary Block Party 5-9pm\n\nCome spend the evening with us! Enjoy live tunes from TWANG\, delicious bites\, and plenty of dancing as we celebrate our 125th anniversary.
URL:https://bozone.com/event/annual-neighborhood-block-party-music-by-twang-600/
LOCATION:Chico Hot Springs Resort\, 163 Chico Rd\, Pray\, MT\, 59065\, United States
CATEGORIES:Music
GEO:45.3386251;-110.6922233
X-APPLE-STRUCTURED-LOCATION;VALUE=URI;X-ADDRESS=Chico Hot Springs Resort 163 Chico Rd Pray MT 59065 United States;X-APPLE-RADIUS=500;X-TITLE=163 Chico Rd:geo:-110.6922233,45.3386251
END:VEVENT
END:VCALENDAR