BEGIN:VCALENDAR
VERSION:2.0
PRODID:-//The BoZone - ECPv5.12.0//NONSGML v1.0//EN
CALSCALE:GREGORIAN
METHOD:PUBLISH
X-WR-CALNAME:The BoZone
X-ORIGINAL-URL:https://bozone.com
X-WR-CALDESC:Events for The BoZone
BEGIN:VTIMEZONE
TZID:America/Denver
BEGIN:DAYLIGHT
TZOFFSETFROM:-0700
TZOFFSETTO:-0600
TZNAME:MDT
DTSTART:20250309T090000
END:DAYLIGHT
BEGIN:STANDARD
TZOFFSETFROM:-0600
TZOFFSETTO:-0700
TZNAME:MST
DTSTART:20251102T080000
END:STANDARD
END:VTIMEZONE
BEGIN:VEVENT
DTSTART;TZID=America/Denver:20250822T160000
DTEND;TZID=America/Denver:20250822T160000
DTSTAMP:20260421T215658
CREATED:20250629T151215Z
LAST-MODIFIED:20250629T151215Z
UID:293445-1755878400-1755878400@bozone.com
SUMMARY:Alpenglow Festival
DESCRIPTION:Alpenglow Festival Info\n\n\n\n\n\nALL AGES\n\n\n\n\n\n\n\n\nBozeman’s favorite music festival is back! Grab your tickets now and get ready for a weekend of great music and even better company! \nAlpenglow 2025\nFriday\, August 22nd and Saturday\, August 23rd from 4PM – 10PM \nAll tickets are two day passes \nAll country lineup to be announced featuring your favorite local stars and nationally recognized stars \nMontana Made Village with 50+ local vendors and organizations \nBrewfest featuring your favorite craft breweries \nIntroducing the inaugeral food festival featuring your favorite local chefs \nYour favorite carnival games with prizes for all ages \n+ more fun for all ages! \nGET TICKETS
URL:https://bozone.com/event/alpenglow-festival/
LOCATION:Bourbon\, 515 W. Aspen Unit 102\, Bozeman\, MT\, 59715\, United States
CATEGORIES:Miscellanea,Music
GEO:45.687753;-111.0446275
X-APPLE-STRUCTURED-LOCATION;VALUE=URI;X-ADDRESS=Bourbon 515 W. Aspen Unit 102 Bozeman MT 59715 United States;X-APPLE-RADIUS=500;X-TITLE=515 W. Aspen Unit 102:geo:-111.0446275,45.687753
END:VEVENT
END:VCALENDAR