BEGIN:VCALENDAR
VERSION:2.0
PRODID:-//The BoZone - ECPv5.12.0//NONSGML v1.0//EN
CALSCALE:GREGORIAN
METHOD:PUBLISH
X-WR-CALNAME:The BoZone
X-ORIGINAL-URL:https://bozone.com
X-WR-CALDESC:Events for The BoZone
BEGIN:VTIMEZONE
TZID:America/Denver
BEGIN:DAYLIGHT
TZOFFSETFROM:-0700
TZOFFSETTO:-0600
TZNAME:MDT
DTSTART:20250309T090000
END:DAYLIGHT
BEGIN:STANDARD
TZOFFSETFROM:-0600
TZOFFSETTO:-0700
TZNAME:MST
DTSTART:20251102T080000
END:STANDARD
END:VTIMEZONE
BEGIN:VEVENT
DTSTART;TZID=America/Denver:20250912T200000
DTEND;TZID=America/Denver:20250912T200000
DTSTAMP:20260421T123218
CREATED:20250628T200107Z
LAST-MODIFIED:20250628T200107Z
UID:292943-1757707200-1757707200@bozone.com
SUMMARY:AGR Presents: Southall with Colby Acuff - Testicle Festival!
DESCRIPTION:Southall\n\n \nSeptember 12th\, 2025\n\nAGR Presents: Southall with Colby Acuff – Testicle Festival!\nFri\, Sep 12\, 2025 ⦁ 8:00pm\n\nBrick Breeden Fieldhouse\n\n\n\nFriday\, September 12th\, 2025 at 8:00pm \nAll tickets are General admission with standing floor seats or the 200 level section\nThe SOUTH DOORS to the fieldhouse will be the only entrance open for this show\nDoors open at 7:00pm\nAll tickets will be sent by mobile delivery. Please call the ticket office at 406-994-2287 if you need assistance with another delivery method.\nNo outside food or drink \n\nGET TICKETS
URL:https://bozone.com/event/agr-presents-southall-with-colby-acuff-testicle-festival/
LOCATION:Brick Breeden Fieldhouse – MSU\, 1 Bobcat Cir\, Bozeman\, MT\, 59715\, United States
CATEGORIES:Miscellanea,Music
GEO:45.6633486;-111.0506591
X-APPLE-STRUCTURED-LOCATION;VALUE=URI;X-ADDRESS=Brick Breeden Fieldhouse – MSU 1 Bobcat Cir Bozeman MT 59715 United States;X-APPLE-RADIUS=500;X-TITLE=1 Bobcat Cir:geo:-111.0506591,45.6633486
END:VEVENT
END:VCALENDAR