BEGIN:VCALENDAR
VERSION:2.0
PRODID:-//The BoZone - ECPv5.12.0//NONSGML v1.0//EN
CALSCALE:GREGORIAN
METHOD:PUBLISH
X-WR-CALNAME:The BoZone
X-ORIGINAL-URL:https://bozone.com
X-WR-CALDESC:Events for The BoZone
BEGIN:VTIMEZONE
TZID:America/Denver
BEGIN:DAYLIGHT
TZOFFSETFROM:-0700
TZOFFSETTO:-0600
TZNAME:MDT
DTSTART:20250309T090000
END:DAYLIGHT
BEGIN:STANDARD
TZOFFSETFROM:-0600
TZOFFSETTO:-0700
TZNAME:MST
DTSTART:20251102T080000
END:STANDARD
END:VTIMEZONE
BEGIN:VEVENT
DTSTART;TZID=America/Denver:20250824T140000
DTEND;TZID=America/Denver:20250824T140000
DTSTAMP:20260422T094119
CREATED:20250810T032602Z
LAST-MODIFIED:20250810T032602Z
UID:295511-1756044000-1756044000@bozone.com
SUMMARY:A River Runs Through Us
DESCRIPTION:An Herbal Functional Guide to the Lymphatic System\nLearn all about the lymphatic system from a functional lens\, nutrition\, herbal and movement based support\, seasonal living and how our inner river reflects the Earth’s rivers. \nHosted by Lauren Bailey of Rootfolk\, LLC\n2:00-4:00 at MilkThistle – herbal infusions and snacks provided\nSpace is limited\, call to register $40
URL:https://bozone.com/event/a-river-runs-through-us/
LOCATION:Milk Thistle Skincare & Massage\, 420 N 7th Ave\, Bozeman\, MT\, 59715\, United States
CATEGORIES:Classes,Miscellanea
GEO:45.6837399;-111.0459191
X-APPLE-STRUCTURED-LOCATION;VALUE=URI;X-ADDRESS=Milk Thistle Skincare & Massage 420 N 7th Ave Bozeman MT 59715 United States;X-APPLE-RADIUS=500;X-TITLE=420 N 7th Ave:geo:-111.0459191,45.6837399
END:VEVENT
END:VCALENDAR