BEGIN:VCALENDAR
VERSION:2.0
PRODID:-//The BoZone - ECPv5.12.0//NONSGML v1.0//EN
CALSCALE:GREGORIAN
METHOD:PUBLISH
X-WR-CALNAME:The BoZone
X-ORIGINAL-URL:https://bozone.com
X-WR-CALDESC:Events for The BoZone
BEGIN:VTIMEZONE
TZID:America/Denver
BEGIN:DAYLIGHT
TZOFFSETFROM:-0700
TZOFFSETTO:-0600
TZNAME:MDT
DTSTART:20250309T090000
END:DAYLIGHT
BEGIN:STANDARD
TZOFFSETFROM:-0600
TZOFFSETTO:-0700
TZNAME:MST
DTSTART:20251102T080000
END:STANDARD
END:VTIMEZONE
BEGIN:VEVENT
DTSTART;TZID=America/Denver:20251018T150000
DTEND;TZID=America/Denver:20251018T200000
DTSTAMP:20260421T031500
CREATED:20250629T151548Z
LAST-MODIFIED:20250629T151548Z
UID:293446-1760799600-1760817600@bozone.com
SUMMARY:8th Annual Montana Fresh Hop Festival
DESCRIPTION:Saturday\, October 18\n\n\n\n8th Annual Montana Fresh Hop Festival\n\n\n\nA celebration of the Harvest\, Craft Beer\, and those who make it all possible!\nCome enjoy a harvest festival featuring delicious fresh hopped styles of beer from 35+ Montana breweries and beyond. Join us as we celebrate the completion of the harvest season with delicious beers\, live music\, and tasty eats from local food vendors. The Fresh Hop style of beer is a true brewed seasonal way of making beer. By adding raw fresh\, straight-out-of-the-field hop cones to a brew\, a more unique\, floral\, grassy flavor can be imparted to any style of beer. Come try a wide selection of variations on this simple theme and experience the freshness first hand!\nGET TICKETS
URL:https://bozone.com/event/8th-annual-montana-fresh-hop-festival/
LOCATION:GCF – Gallatin County Fairgrounds – GCF\, 901 N Black\, Bozeman\, United States
CATEGORIES:Miscellanea,Music
GEO:45.6885954;-111.0358461
X-APPLE-STRUCTURED-LOCATION;VALUE=URI;X-ADDRESS=GCF – Gallatin County Fairgrounds – GCF 901 N Black Bozeman United States;X-APPLE-RADIUS=500;X-TITLE=901 N Black:geo:-111.0358461,45.6885954
END:VEVENT
END:VCALENDAR