BEGIN:VCALENDAR
VERSION:2.0
PRODID:-//The BoZone - ECPv5.12.0//NONSGML v1.0//EN
CALSCALE:GREGORIAN
METHOD:PUBLISH
X-WR-CALNAME:The BoZone
X-ORIGINAL-URL:https://bozone.com
X-WR-CALDESC:Events for The BoZone
BEGIN:VTIMEZONE
TZID:America/Denver
BEGIN:DAYLIGHT
TZOFFSETFROM:-0700
TZOFFSETTO:-0600
TZNAME:MDT
DTSTART:20250309T090000
END:DAYLIGHT
BEGIN:STANDARD
TZOFFSETFROM:-0600
TZOFFSETTO:-0700
TZNAME:MST
DTSTART:20251102T080000
END:STANDARD
END:VTIMEZONE
BEGIN:VEVENT
DTSTART;TZID=America/Denver:20250808T150000
DTEND;TZID=America/Denver:20250810T183000
DTSTAMP:20260421T115950
CREATED:20250729T202958Z
LAST-MODIFIED:20250729T202958Z
UID:294682-1754665200-1754850600@bozone.com
SUMMARY:35th ANNUAL BLUEGRASS FESTIVAL
DESCRIPTION:35th ANNUAL BLUEGRASS FESTIVAL\n\nThe stage is set and we’re ready to officially welcome you to the 35th Annual Grand Targhee Bluegrass Festival this coming August 8-10\, 2025! this year brings on an incredible three day line-up\, featuring exciting new artists alongside the return of some of last year’s all-stars.\nMORE INFO
URL:https://bozone.com/event/35th-annual-bluegrass-festival/
LOCATION:Grand Targhee Resort\, 3300 Ski Hill Road\, Road Trip (outside Montana)\, United States
CATEGORIES:Music
GEO:43.787113;-110.959296
X-APPLE-STRUCTURED-LOCATION;VALUE=URI;X-ADDRESS=Grand Targhee Resort 3300 Ski Hill Road Road Trip (outside Montana) United States;X-APPLE-RADIUS=500;X-TITLE=3300 Ski Hill Road:geo:-110.959296,43.787113
END:VEVENT
END:VCALENDAR