BEGIN:VCALENDAR
VERSION:2.0
PRODID:-//The BoZone - ECPv5.12.0//NONSGML v1.0//EN
CALSCALE:GREGORIAN
METHOD:PUBLISH
X-WR-CALNAME:The BoZone
X-ORIGINAL-URL:https://bozone.com
X-WR-CALDESC:Events for The BoZone
BEGIN:VTIMEZONE
TZID:America/Denver
BEGIN:DAYLIGHT
TZOFFSETFROM:-0700
TZOFFSETTO:-0600
TZNAME:MDT
DTSTART:20260308T090000
END:DAYLIGHT
BEGIN:STANDARD
TZOFFSETFROM:-0600
TZOFFSETTO:-0700
TZNAME:MST
DTSTART:20261101T080000
END:STANDARD
END:VTIMEZONE
BEGIN:VEVENT
DTSTART;TZID=America/Denver:20260514T180000
DTEND;TZID=America/Denver:20260514T180000
DTSTAMP:20260424T152916
CREATED:20260424T183131Z
LAST-MODIFIED:20260424T183147Z
UID:316625-1778781600-1778781600@bozone.com
SUMMARY:Apres Trivia Night
DESCRIPTION:Apres Trivia Night\n\nTrivia Night every Thursday 6-8pm at Apres Brewing on West Lincoln
URL:https://bozone.com/event/316625/
LOCATION:Apres Brewing & Coffee\, 1216 West Lincoln Street\, Unit A\, Bozeman\, MT\, 59715\, United States
CATEGORIES:Miscellanea
GEO:45.6636237;-111.0530318
X-APPLE-STRUCTURED-LOCATION;VALUE=URI;X-ADDRESS=Apres Brewing & Coffee 1216 West Lincoln Street Unit A Bozeman MT 59715 United States;X-APPLE-RADIUS=500;X-TITLE=1216 West Lincoln Street\, Unit A:geo:-111.0530318,45.6636237
END:VEVENT
END:VCALENDAR