BEGIN:VCALENDAR
VERSION:2.0
PRODID:-//The BoZone - ECPv5.12.0//NONSGML v1.0//EN
CALSCALE:GREGORIAN
METHOD:PUBLISH
X-WR-CALNAME:The BoZone
X-ORIGINAL-URL:https://bozone.com
X-WR-CALDESC:Events for The BoZone
BEGIN:VTIMEZONE
TZID:America/Denver
BEGIN:DAYLIGHT
TZOFFSETFROM:-0700
TZOFFSETTO:-0600
TZNAME:MDT
DTSTART:20260308T090000
END:DAYLIGHT
BEGIN:STANDARD
TZOFFSETFROM:-0600
TZOFFSETTO:-0700
TZNAME:MST
DTSTART:20261101T080000
END:STANDARD
END:VTIMEZONE
BEGIN:VEVENT
DTSTART;TZID=America/Denver:20260227T210000
DTEND;TZID=America/Denver:20260227T210000
DTSTAMP:20260425T144047
CREATED:20251229T015104Z
LAST-MODIFIED:20251229T015158Z
UID:304611-1772226000-1772226000@bozone.com
SUMMARY:Shakedown Country
DESCRIPTION:FEBRUARY 27 & 28\, 2026 \nShakedown Country 9pm – Close\n\nCountry Western \nShakedown Country is a Southern Honky-Tonk Rock and Roll band with a sound that blends the spirit of the South with a rebellious rock edge. If you’re ready to hear a fresh twist on classic sounds\, they’re the band to catch—where the whiskey flows\, and the music never stops. 
URL:https://bozone.com/event/304611/
LOCATION:Chico Hot Springs Saloon\, 163 Chico Rd\, Pray\, MT 59065\, Pray\, MT\, 59065\, United States
CATEGORIES:Music
GEO:45.3386251;-110.6922233
X-APPLE-STRUCTURED-LOCATION;VALUE=URI;X-ADDRESS=Chico Hot Springs Saloon 163 Chico Rd Pray MT 59065 Pray MT 59065 United States;X-APPLE-RADIUS=500;X-TITLE=163 Chico Rd\, Pray\, MT 59065:geo:-110.6922233,45.3386251
END:VEVENT
END:VCALENDAR