BEGIN:VCALENDAR
VERSION:2.0
PRODID:-//The BoZone - ECPv5.12.0//NONSGML v1.0//EN
CALSCALE:GREGORIAN
METHOD:PUBLISH
X-WR-CALNAME:The BoZone
X-ORIGINAL-URL:https://bozone.com
X-WR-CALDESC:Events for The BoZone
BEGIN:VTIMEZONE
TZID:America/Denver
BEGIN:DAYLIGHT
TZOFFSETFROM:-0700
TZOFFSETTO:-0600
TZNAME:MDT
DTSTART:20250309T090000
END:DAYLIGHT
BEGIN:STANDARD
TZOFFSETFROM:-0600
TZOFFSETTO:-0700
TZNAME:MST
DTSTART:20251102T080000
END:STANDARD
END:VTIMEZONE
BEGIN:VEVENT
DTSTART;TZID=America/Denver:20250919T140000
DTEND;TZID=America/Denver:20250919T200000
DTSTAMP:20260422T213226
CREATED:20250826T012557Z
LAST-MODIFIED:20250827T022129Z
UID:296513-1758290400-1758312000@bozone.com
SUMMARY:Stein & Swine: Oktoberfest Kickoff Party
DESCRIPTION:Friday\, September 19\n\n\n\nStein & Swine: Oktoberfest Kickoff Party on Main Street\n\n\n\n\n\n\nBy gute Laune\n\n\n\n\n\n\n\nBozeman’s ultimate Oktoberfest kickoff! Pig Roast buffet\, Bayern Brewing Oktoberfest steins\, stein holding\, pretzel toss & prizes for All! \n\n\n\n\n\n\n\n\n\n  \n\nFriday\, September 19 · 2 – 8pm MDT
URL:https://bozone.com/event/296513/
LOCATION:Gute Laune Wurstbar above The Rialto\, 10 WEST MAIN STREET\, Bozeman\, MT\, 59715\, United States
CATEGORIES:Miscellanea
GEO:45.6790349;-111.0376605
X-APPLE-STRUCTURED-LOCATION;VALUE=URI;X-ADDRESS=Gute Laune Wurstbar above The Rialto 10 WEST MAIN STREET Bozeman MT 59715 United States;X-APPLE-RADIUS=500;X-TITLE=10 WEST MAIN STREET:geo:-111.0376605,45.6790349
END:VEVENT
END:VCALENDAR