BEGIN:VCALENDAR
VERSION:2.0
PRODID:-//The BoZone - ECPv5.12.0//NONSGML v1.0//EN
CALSCALE:GREGORIAN
METHOD:PUBLISH
X-WR-CALNAME:The BoZone
X-ORIGINAL-URL:https://bozone.com
X-WR-CALDESC:Events for The BoZone
BEGIN:VTIMEZONE
TZID:America/Denver
BEGIN:DAYLIGHT
TZOFFSETFROM:-0700
TZOFFSETTO:-0600
TZNAME:MDT
DTSTART:20250309T090000
END:DAYLIGHT
BEGIN:STANDARD
TZOFFSETFROM:-0600
TZOFFSETTO:-0700
TZNAME:MST
DTSTART:20251102T080000
END:STANDARD
END:VTIMEZONE
BEGIN:VEVENT
DTSTART;TZID=America/Denver:20251114T173000
DTEND;TZID=America/Denver:20251114T173000
DTSTAMP:20260421T185111
CREATED:20251010T220003Z
LAST-MODIFIED:20251010T220003Z
UID:299897-1763141400-1763141400@bozone.com
SUMMARY:20th Annual Wine & Beer Tasting
DESCRIPTION:LIVINGSTON DEPOT FOUNDATION 20TH WINE AND BEER TASTING\nFRIDAY\, NOVEMBER 14\, 2025\nMAIN EVENT 6:30 TO 8:30 PM\,\nSNEAK PEEK 5:30 TO 6:30 PM \nThe Livingston Depot Foundation hosts the well-known Wine & Beer Tasting on Friday\, November 14th from 5:30 to 8:30 p.m. at the Livingston Depot Center.\nThe signature event is back and celebrating its 20th year in support of the preservation of the iconic Depot building as the anchor of our vibrant downtown.\nThe Tasting Event offers samplings of favorites and specialties from local brewers\, sommeliers\, chefs\, artists and businesses. A showcase of locally brewed beers by regional craft brewers and specialty wines from around the world are expertly picked by The Gourmet Cellar. Guests are invited to savor an array of drinks & appetizers\, bid on silent auction items and enjoy a lively evening all while supporting the Depot Foundation.\nA sneak peek\, from 5:30 to 6:30 pm\, will feature passed hors d’oeuvres\, and a signature Depot glass while guests preview the auction items and the evening’s flavors. The popular silent auction is a sampling of the best of the region with overnight getaways\, fine art\, quality dining\, and the finest offerings of local businesses.\nThis signature Tasting Event is both an important fundraiser for The Depot Foundation and a great get-together with friends and community members. The Livingston Depot Foundation depends on community support to sustain its historic preservation and educational mission at the heart of Livingston and Park County. Now in service to the community for over four decades as both a museum and community center\, the Depot has been anchoring the downtown and introducing guests to area history and character.\nTickets for the event are limited\, and advance purchase is highly recommended. The main event from 6:30 to 8:30 p.m is $50\, and a “sneak peek” hour is available from 5:30 to 6:30 p.m for an additional $25. A new feature\, the “sneak peek” hour will entertain guests with passed hors d’oeuvres\, a Depot glass keepsake and a preview of the night’s specials. Purchase tickets online at LivingstonDepot.org\, or by calling the Livingston Depot at 222-2300. Admission opens the door to wine and beer tastings\, appetizers\, entertainment\, prizes\, and a lively evening.
URL:https://bozone.com/event/20th-annual-wine-beer-tasting/
LOCATION:Livingston Depot Center\, 200 W Park St\, Livingston\, United States
CATEGORIES:Miscellanea
GEO:45.6617636;-110.5629807
X-APPLE-STRUCTURED-LOCATION;VALUE=URI;X-ADDRESS=Livingston Depot Center 200 W Park St Livingston United States;X-APPLE-RADIUS=500;X-TITLE=200 W Park St:geo:-110.5629807,45.6617636
END:VEVENT
END:VCALENDAR