BEGIN:VCALENDAR
VERSION:2.0
PRODID:-//The BoZone - ECPv5.12.0//NONSGML v1.0//EN
CALSCALE:GREGORIAN
METHOD:PUBLISH
X-WR-CALNAME:The BoZone
X-ORIGINAL-URL:https://bozone.com
X-WR-CALDESC:Events for The BoZone
BEGIN:VTIMEZONE
TZID:America/Denver
BEGIN:DAYLIGHT
TZOFFSETFROM:-0700
TZOFFSETTO:-0600
TZNAME:MDT
DTSTART:20260308T090000
END:DAYLIGHT
BEGIN:STANDARD
TZOFFSETFROM:-0600
TZOFFSETTO:-0700
TZNAME:MST
DTSTART:20261101T080000
END:STANDARD
END:VTIMEZONE
BEGIN:VEVENT
DTSTART;TZID=America/Denver:20260117T100000
DTEND;TZID=America/Denver:20260117T100000
DTSTAMP:20260423T041442
CREATED:20260115T193036Z
LAST-MODIFIED:20260115T193216Z
UID:305489-1768644000-1768644000@bozone.com
SUMMARY:2025 FCS Championship Parade
DESCRIPTION:Paint Bozeman Blue and Gold this Saturday!\n\n\nJoin us for our 2025 FCS Championship parade starting at 10 am from Bobcat Stadium. The parade starts north on 11th Ave to Main St with team and staff vehicles. On Main St.\, the MSU Spirit Squad\, Spirit of the West Marching Band\, and the MSU Rodeo team join the parade for our full experience in downtown Bozeman. The band\, spirit squad\, and rodeo\, will exit at the MSU Public library and the team vehicles continue on Highland and Kagy Blvd back to Bobcat Stadium.\n\n\nCan’t join us? Watch along on your local SWX channel as well as on the SWX Local Sports YouTube channel. Line the streets in Blue and Gold and help us celebrate\n\n\nMORE INFO
URL:https://bozone.com/event/2025-fcs-championship-parade/
LOCATION:Bobcat Stadium – MSU\, 1 Bobcat Cir\, Bozeman\, MT\, 59715\, United States
CATEGORIES:Miscellanea,Music
GEO:45.6603009;-111.0500113
X-APPLE-STRUCTURED-LOCATION;VALUE=URI;X-ADDRESS=Bobcat Stadium – MSU 1 Bobcat Cir Bozeman MT 59715 United States;X-APPLE-RADIUS=500;X-TITLE=1 Bobcat Cir:geo:-111.0500113,45.6603009
END:VEVENT
END:VCALENDAR