BEGIN:VCALENDAR
VERSION:2.0
PRODID:-//The BoZone - ECPv5.12.0//NONSGML v1.0//EN
CALSCALE:GREGORIAN
METHOD:PUBLISH
X-WR-CALNAME:The BoZone
X-ORIGINAL-URL:https://bozone.com
X-WR-CALDESC:Events for The BoZone
BEGIN:VTIMEZONE
TZID:America/Denver
BEGIN:DAYLIGHT
TZOFFSETFROM:-0700
TZOFFSETTO:-0600
TZNAME:MDT
DTSTART:20260308T090000
END:DAYLIGHT
BEGIN:STANDARD
TZOFFSETFROM:-0600
TZOFFSETTO:-0700
TZNAME:MST
DTSTART:20261101T080000
END:STANDARD
END:VTIMEZONE
BEGIN:VEVENT
DTSTART;TZID=America/Denver:20260704T080000
DTEND;TZID=America/Denver:20260704T080000
DTSTAMP:20260421T164406
CREATED:20260228T014532Z
LAST-MODIFIED:20260228T014532Z
UID:312610-1783152000-1783152000@bozone.com
SUMMARY:19th Annual Reach Race for Independence
DESCRIPTION:Join us for a 1K\, 5K\, or 10K run or walk on the trails of beautiful north Bozeman on Saturday\, July 4th\, 2026. This fun\, family friendly event starts at the Reach Work Center and winds through Cherry River Fishing Access and the Glen Lake Rotary Park recreation area. All proceeds from this event will go to Reach Inc.\, a local non-profit that helps adults with developmental disabilities to lead independent\, fulfilling lives. Register at https://runsignup.com/Race/Register?raceId=17571 Direct questions to Jacy at 406-920-0930
URL:https://bozone.com/event/19th-annual-reach-race-for-independence/
LOCATION:Reach Work Center\, 322 Gallatin Park Drive\, Bozeman\, MT\, 59715\, United States
CATEGORIES:Sporting Events
GEO:45.7060493;-111.0434744
X-APPLE-STRUCTURED-LOCATION;VALUE=URI;X-ADDRESS=Reach Work Center 322 Gallatin Park Drive Bozeman MT 59715 United States;X-APPLE-RADIUS=500;X-TITLE=322 Gallatin Park Drive:geo:-111.0434744,45.7060493
END:VEVENT
END:VCALENDAR